BEGIN:VCALENDAR
VERSION:2.0
PRODID:-//AudioTheme 2.3.8
BEGIN:VEVENT
UID:urn:uuid:1249abf3-e630-4141-b7c6-f4a7b982c4bc
URL:https://swell41.com/shows/urban-spree/
DTSTART;VALUE=DATE:20230411
SUMMARY:Urban Spree
LOCATION:Urban Spree\, Revaler Str. 99\, 10245\, Berlin\, \, Germany
END:VEVENT
END:VCALENDAR
