BEGIN:VCALENDAR
VERSION:2.0
PRODID:-//AudioTheme 2.3.8
BEGIN:VEVENT
UID:urn:uuid:4a8e4b64-1a4c-4a10-b20b-9c9d0ba81865
URL:https://swell41.com/shows/the-independent/
DTSTART;TZID=GMT:20231206T040000
SUMMARY:The Independent
LOCATION:The Independent\, 628 Dividadero Street\, San Francisco\, CA\, United States\, 94117
END:VEVENT
END:VCALENDAR
