BEGIN:VCALENDAR
VERSION:2.0
PRODID:-//AudioTheme 2.3.8
BEGIN:VEVENT
UID:urn:uuid:577ded12-087a-4ce4-9518-ae090182e350
URL:https://swell41.com/shows/resident/
DTSTART;TZID=GMT:20231205T040000
SUMMARY:Resident
LOCATION:Resident\, 428 S Hewitt St\, Los Angeles\, CA\, United Satates\, 90013
END:VEVENT
END:VCALENDAR
