BEGIN:VCALENDAR
VERSION:2.0
PRODID:-//AudioTheme 2.3.8
BEGIN:VEVENT
UID:urn:uuid:3fa57797-1699-40cd-a52a-ff69e64bac3e
URL:https://swell41.com/shows/ram-club/
DTSTART;VALUE=DATE:20230422
SUMMARY:Ram Club
LOCATION:Ram Club\, Bulevar Sur esquina Calle Pío IX\, Valencia\, \, Spain
END:VEVENT
END:VCALENDAR
