BEGIN:VCALENDAR
VERSION:2.0
PRODID:-//AudioTheme 2.3.8
BEGIN:VEVENT
UID:urn:uuid:1cee1c6e-57f4-495d-9d20-92e5cb9105ff
URL:https://swell41.com/shows/muziekgieterij/
DTSTART;VALUE=DATE:20230419
SUMMARY:Muziekgieterij
LOCATION:Muziekgieterij\, Boschstraat 5\, 6211 AS\, Maastricht\, \, Netherlands
END:VEVENT
END:VCALENDAR
