BEGIN:VCALENDAR
VERSION:2.0
PRODID:-//AudioTheme 2.3.8
BEGIN:VEVENT
UID:urn:uuid:03815ff2-5cfe-466c-ab18-05cbff25ab4e
URL:https://swell41.com/shows/mississippi-studios/
DTSTART;TZID=GMT:20231208T000000
SUMMARY:Mississippi Studios
LOCATION:Mississippi Studios\, 3939 N. Mississippi Ave\, Portland\, OR\, United States\, 97227
END:VEVENT
END:VCALENDAR
