BEGIN:VCALENDAR
VERSION:2.0
PRODID:-//AudioTheme 2.3.8
BEGIN:VEVENT
UID:urn:uuid:8fa861e3-6e30-4588-ae28-2905ace27626
URL:https://swell41.com/shows/marche-gare/
DTSTART;VALUE=DATE:20230413
SUMMARY:Marché Gare
LOCATION:Marché Gare\, 4-6 Pl. Hubert Mounier\, Lyon\, \, France\, 69002
END:VEVENT
END:VCALENDAR
