BEGIN:VCALENDAR
VERSION:2.0
PRODID:-//AudioTheme 2.3.8
BEGIN:VEVENT
UID:urn:uuid:a0ad2f55-b069-4fc0-9b04-b8a642ff773d
URL:https://swell41.com/shows/madame-lous/
DTSTART;TZID=GMT:20231210T023000
SUMMARY:Madame Lou’s
LOCATION:Madame Lou’s\, 2505 1st Ave\, Seattle\, WA\, United States\, 98121
END:VEVENT
END:VCALENDAR
