BEGIN:VCALENDAR
VERSION:2.0
PRODID:-//AudioTheme 2.3.8
BEGIN:VEVENT
UID:urn:uuid:a0ad2f55-b069-4fc0-9b04-b8a642ff773d
URL:https://swell41.com/shows/les-vieux-de-la-vieille/
DTSTART;TZID=GMT:20240528T000000
SUMMARY:Les Vieux De La Vieille
LOCATION:Les Vieux De La Vieille\, 16 Rue du Temple\, Reims\, \, France\, 51100
END:VEVENT
END:VCALENDAR
