BEGIN:VCALENDAR
VERSION:2.0
PRODID:-//AudioTheme 2.3.8
BEGIN:VEVENT
UID:urn:uuid:a0ad2f55-b069-4fc0-9b04-b8a642ff773d
URL:https://swell41.com/shows/le-vecteur/
DTSTART;TZID=GMT:20240523T180000
SUMMARY:Le Vecteur
DESCRIPTION:<a href="https://www.facebook.com/events/390068913836559/">Facebook Event</a>
LOCATION:Le Vecteur\, Rue de Marcinelle 30\, Charleroi\, \, Belgium\, 6000
END:VEVENT
END:VCALENDAR
