BEGIN:VCALENDAR
VERSION:2.0
PRODID:-//AudioTheme 2.3.8
BEGIN:VEVENT
UID:urn:uuid:cab0dbbb-8c33-4d2b-a880-ebd9ef0e505b
URL:https://swell41.com/shows/le-petit-bain/
DTSTART;TZID=GMT:20230418T190000
SUMMARY:Le Petit Bain
LOCATION:Le Petit Bain\, 7 Port de la Gare\, Paris\, \, France\, 75013
END:VEVENT
END:VCALENDAR
