BEGIN:VCALENDAR
VERSION:2.0
PRODID:-//AudioTheme 2.3.8
BEGIN:VEVENT
UID:urn:uuid:7f24f1f5-b8e8-46bc-bc31-44ec7195a342
URL:https://swell41.com/shows/le-grand-mix/
DTSTART;VALUE=DATE:20230420
SUMMARY:Le Grand Mix
LOCATION:Le Grand Mix\, 5 Place Notre Dame\, Tourcoing\, \, France
END:VEVENT
END:VCALENDAR
