BEGIN:VCALENDAR
VERSION:2.0
PRODID:-//AudioTheme 2.3.8
BEGIN:VEVENT
UID:urn:uuid:f07797b8-dfdb-40d8-994b-f55b4373185d
URL:https://swell41.com/shows/le-botanique/
DTSTART;VALUE=DATE:20230409
SUMMARY:Le Botanique
LOCATION:Le Botanique\, Rue Royale 236\, 1210\, Brussels\, \, Belgium
END:VEVENT
END:VCALENDAR
