BEGIN:VCALENDAR
VERSION:2.0
PRODID:-//AudioTheme 2.3.8
BEGIN:VEVENT
UID:urn:uuid:a0ad2f55-b069-4fc0-9b04-b8a642ff773d
URL:https://swell41.com/shows/laureole-bethencourt/
DTSTART;TZID=GMT:20240525T180000
SUMMARY:L'auréole Béthencourt
LOCATION:L'auréole Béthencourt\, 2 Rue d'Izel\, TINCQUES\, \, France\, 62127
END:VEVENT
END:VCALENDAR
