BEGIN:VCALENDAR
VERSION:2.0
PRODID:-//AudioTheme 2.3.8
BEGIN:VEVENT
UID:urn:uuid:a0ad2f55-b069-4fc0-9b04-b8a642ff773d
URL:https://swell41.com/shows/la-malterie/
DTSTART;TZID=GMT:20240521T180000
SUMMARY:La Malterie
LOCATION:La Malterie\, 42 rue Kuhlmann\, Lille\, \, France\, 59000
END:VEVENT
END:VCALENDAR
