BEGIN:VCALENDAR
VERSION:2.0
PRODID:-//AudioTheme 2.3.8
BEGIN:VEVENT
UID:urn:uuid:32977c7a-65ba-4ffb-bd30-c7576d91af91
URL:https://swell41.com/shows/la-cooperative-de-mai/
DTSTART;VALUE=DATE:20230414
SUMMARY:La Coopérative de Mai]
LOCATION:La Coopérative de Mai\, Rue Serge Gainsbourg\, Clermont Ferrand\, \, France\, 63000
END:VEVENT
END:VCALENDAR
