BEGIN:VCALENDAR
VERSION:2.0
PRODID:-//AudioTheme 2.3.8
BEGIN:VEVENT
UID:urn:uuid:a0ad2f55-b069-4fc0-9b04-b8a642ff773d
URL:https://swell41.com/shows/la-chapelle/
DTSTART;TZID=GMT:20240524T000000
SUMMARY:La Chapelle
DESCRIPTION:For tickets: contact@watineprod.com
LOCATION:La Chapelle\, 2 Impasse Hoche\, Châtillon\, \, France\, 92320
END:VEVENT
END:VCALENDAR
