BEGIN:VCALENDAR
VERSION:2.0
PRODID:-//AudioTheme 2.3.8
BEGIN:VEVENT
UID:urn:uuid:a0ad2f55-b069-4fc0-9b04-b8a642ff773d
URL:https://swell41.com/shows/kinky-star-2/
DTSTART;TZID=GMT:20240529T180000
SUMMARY:Kinky Star
LOCATION:Kinky Star\, Vlasmarkt 9\, Gent\, \, Belgium\, 9000
END:VEVENT
END:VCALENDAR
