BEGIN:VCALENDAR
VERSION:2.0
PRODID:-//AudioTheme 2.3.8
BEGIN:VEVENT
UID:urn:uuid:d75d20a4-eb36-4ec5-99b7-3931d3ee48a2
URL:https://swell41.com/shows/hydrophone/
DTSTART;VALUE=DATE:20230415
SUMMARY:Hydrophone
LOCATION:Hydrophone\, 11 Rue d'Estienne d'Orves\, Lorient\, \, France
END:VEVENT
END:VCALENDAR
