BEGIN:VCALENDAR
VERSION:2.0
PRODID:-//AudioTheme 2.3.8
BEGIN:VEVENT
UID:urn:uuid:28aff2e6-f9d0-42a6-ad79-8919b708bd10
URL:https://swell41.com/shows/gebaude-9/
DTSTART;VALUE=DATE:20230410
SUMMARY:Gebaude 9
LOCATION:Gebaude 9\, Deutz-Mülheimer Str. 117\, ehemals 127\,\, Köln\, \, Germany\, 51063
END:VEVENT
END:VCALENDAR
