BEGIN:VCALENDAR
VERSION:2.0
PRODID:-//AudioTheme 2.3.8
BEGIN:VEVENT
UID:urn:uuid:9c842707-d6a3-40ff-87a5-f8db806dc798
URL:https://swell41.com/shows/fabrique-du-docteur-faton/
DTSTART;VALUE=DATE:20230416
SUMMARY:Fabrique du Docteur Faton
LOCATION:Fabrique du Docteur Faton\, 34 Rue du Dr Faton\, 41100\, Vendôme\, \, France
END:VEVENT
END:VCALENDAR
