BEGIN:VCALENDAR
VERSION:2.0
PRODID:-//AudioTheme 2.3.8
BEGIN:VEVENT
UID:urn:uuid:a0ad2f55-b069-4fc0-9b04-b8a642ff773d
URL:https://swell41.com/shows/djingel-djangel/
DTSTART;TZID=GMT:20240522T180000
SUMMARY:Djingel Djangel
LOCATION:Djingel Djangel\, Bordeauxstraat 7a/bus 0.1\, Antwerpen\, \, Belgium\, 2000
END:VEVENT
END:VCALENDAR
