BEGIN:VCALENDAR
VERSION:2.0
PRODID:-//AudioTheme 2.3.8
BEGIN:VEVENT
UID:urn:uuid:a0ad2f55-b069-4fc0-9b04-b8a642ff773d
URL:https://swell41.com/shows/cafecafe/
DTSTART;TZID=GMT:20240526T180000
SUMMARY:Café Café
LOCATION:Café Café\, Meldertstraat 40\, Hasselt\, \, Belgium\, 3500
END:VEVENT
END:VCALENDAR
