BEGIN:VCALENDAR
VERSION:2.0
PRODID:-//AudioTheme 2.3.8
BEGIN:VEVENT
UID:urn:uuid:b2ebe363-da31-4b62-a066-6ccf4b00da0c
URL:https://swell41.com/shows/bielefeld-forum/
DTSTART;VALUE=DATE:20230412
SUMMARY:Bielefeld Forum
LOCATION:Bielefeld Forum\, e. V. Meller Str. 2 33613\, Bielefeld\, \, Germany
END:VEVENT
END:VCALENDAR
